BEGIN:VCALENDAR
VERSION:2.0
PRODID:-//Savremena galerija Subotica - ECPv5.3.1//NONSGML v1.0//EN
CALSCALE:GREGORIAN
METHOD:PUBLISH
X-WR-CALNAME:Savremena galerija Subotica
X-ORIGINAL-URL:https://sgsu.org.rs
X-WR-CALDESC:Događaji za Savremena galerija Subotica
BEGIN:VTIMEZONE
TZID:Europe/Belgrade
BEGIN:DAYLIGHT
TZOFFSETFROM:+0100
TZOFFSETTO:+0200
TZNAME:CEST
DTSTART:20240331T010000
END:DAYLIGHT
BEGIN:STANDARD
TZOFFSETFROM:+0200
TZOFFSETTO:+0100
TZNAME:CET
DTSTART:20241027T010000
END:STANDARD
END:VTIMEZONE
BEGIN:VEVENT
DTSTART;TZID=Europe/Belgrade:20241206T180000
DTEND;TZID=Europe/Belgrade:20241206T190000
DTSTAMP:20260423T163223
CREATED:20241204T074531Z
LAST-MODIFIED:20251203T083338Z
UID:21488-1733508000-1733511600@sgsu.org.rs
SUMMARY:IVAN PETROVIĆ: I MESTO NJEGOVO NEĆE GA VIŠE POZNATI
DESCRIPTION:IVAN PETROVIĆ: I MESTO NJEGOVO NEĆE GA VIŠE POZNATI Otvaranje izložbe: petak\, 6.12.2024\, u 18.00Trajanje izložbe: 6.12.2024. – 31.1.2025. Mesto održavanja: Salon Savremene galerije Subotica\, Park Ferenca Rajhla 5 Kustoskinja izložbe: Tamara Kucor\, SGSUAutorka pratećeg teksta u katalogu: Senka Ristivojević  Samostalna izložba Ivana Petrovića prikazuje Beograd kroz fotografije nastale između 2015. i 2022. godine\, dokumentujući prisustvo migranata i njihov odnos prema urbanom okruženju. Petrović kroz prizore gradskih pejzaža\, alternativnih skloništa i kulturnih tragova – poput grafita\, natpisa i lokala prilagođenih novim zajednicama – istražuje kako migracije preoblikuju kulturnu vizuru i identitet grada.  O umetniku:Ivan Petrović (Kruševac\, 1973). Diplomirao je na Akademiji umetnosti „Braća Karić“ u Beogradu 2002. godine na odseku fotografije.  Umetnička praksa Ivana Petrovića zasnovana je uzajamnim odnosima dokumentarizma\, aproprijacije i revalorizacije. Povezujući dve vrste pojava: nestabilnu prirodu medija fotografije sa neusklađenim kulurnim\, društvenim i političkim promenama unutar srpskog društva\, njegova tematska interesovanja usmerena su ka pitanjima istorije\, nasleđa i diskontinuiteta.  Koosnivač je i urednik „Centra za fotografiju“ (2011) u okviru kog deluje kao istraživač\, sakuplјač i kustos. Urednik je „Foto-foruma“ (2010–2011) i autor knjige Foto-forum\, razgovori o fotografiji (2016). Inicijator je i autor godišnje izložbe fotografija „Bliskost i razlike“ (2021-2024\, galerija Remont\, Beograd). Pored fotografije\, koja predstavlјa osnovnu oblast njegovog delovanja i rada (umetnička\, istraživačka\, pedagoška)\, bavi se eksperimentalnim filmom. Dobitnik je nagrade „Dimitrije Bašičević Mangelos“ (2008) i stipendije „KulturKontakt“ u Beču (2004). Predavač je u centru za likovno obrazovanje Šumatovačka u Beogradu gde uređuje program fotografije. Član je ULUS-a.  Sve vas sa radošću očekujemo ☺
URL:https://sgsu.org.rs/desavanje/ivan-petrovic-i-mesto-njegovo-nece-ga-vise-poznati/
LOCATION:Savremena galerija Subotica\, Park Ferenca Rajhla 5\, Subotica\, 24000\, Serbia
CATEGORIES:Arhiva,Događaji,Salon
ATTACH;FMTTYPE=image/jpeg:https://sgsu.org.rs/wp-content/uploads/2024/12/ivan-petrovic-Savremena-galerija-Subotica.jpg
GEO:40.7602619;-73.9932872
X-APPLE-STRUCTURED-LOCATION;VALUE=URI;X-ADDRESS=Savremena galerija Subotica Park Ferenca Rajhla 5 Subotica 24000 Serbia;X-APPLE-RADIUS=500;X-TITLE=Park Ferenca Rajhla 5:geo:-73.9932872,40.7602619
END:VEVENT
END:VCALENDAR