BEGIN:VCALENDAR
VERSION:2.0
PRODID:-//Savremena galerija Subotica - ECPv5.3.1//NONSGML v1.0//EN
CALSCALE:GREGORIAN
METHOD:PUBLISH
X-WR-CALNAME:Savremena galerija Subotica
X-ORIGINAL-URL:https://sgsu.org.rs
X-WR-CALDESC:Događaji za Savremena galerija Subotica
BEGIN:VTIMEZONE
TZID:Europe/Belgrade
BEGIN:DAYLIGHT
TZOFFSETFROM:+0100
TZOFFSETTO:+0200
TZNAME:CEST
DTSTART:20260329T010000
END:DAYLIGHT
BEGIN:STANDARD
TZOFFSETFROM:+0200
TZOFFSETTO:+0100
TZNAME:CET
DTSTART:20261025T010000
END:STANDARD
END:VTIMEZONE
BEGIN:VEVENT
DTSTART;TZID=Europe/Belgrade:20260221T120000
DTEND;TZID=Europe/Belgrade:20260221T130000
DTSTAMP:20260422T164514
CREATED:20260218T124715Z
LAST-MODIFIED:20260218T124715Z
UID:23141-1771675200-1771678800@sgsu.org.rs
SUMMARY:Narativi o tekstilu - Kustosko i autorsko vođenje kroz izložbu
DESCRIPTION:Narativi o tekstilu Naziv izložbe: Narativi o tekstiluKustosko i autorsko vođenje kroz izložbu subota\, 21. februar 2026. u 12 časova Savremena galerija SuboticaPark Ferenca Rajhla 5 Kustoskinja:dr Sanja Kojić MladenovIn-house kustoskinja: Nela Tonković    O izložbi:  U Savremenoj galeriji Subotica će u subotu\, 21. februara 2026. u 12 časova u okviru pratećih programa izložbe „Narativi o tekstilu“\, biti održano kustosko i autorsko vođenje kroz postavku.    Nadovezujući se na koncept izložbe prezentovane u MSUV tokom 2025. godine „Slučaj niti. Globalni narativi o tekstilu”\, Instituta za odnose sa inostranstvom iz Nemačke ifa (kustoskinje: Suzana Vajs\, Inka Gresel)\, a na poziv kustoskog tima Savremene galerije Subotica\, kustoskinja dr Sanja Kojić Mladenov prezentuje segment izložbe koji svoju pažnju usmerava na umetnička dela umetnika i umetnica iz Srbije\, uzimajući u obzir specifični društvenopolitički kontekst sopstvenog okruženja. Okupljeni umetnički radovi ističu značaj emancipatorske prakse\, aktivizma i zajedništva kao važnih karakteristika upotrebe tekstila u lokalnoj istorijskoj i savremenoj umetničkoj praksi. Izložba prikazuje radove: Ivane Ivković\, Jelene Grujičić\, Milice Dukić i studentkinja novosadske Akademije umetnosti\, Nade Adžić Poznanović\, Rene Redle i Vladana Jeremića\, Marinele Koželj\, udruženih grupa NEpraktične žeNE + ŠKART\, Vesne Perunović i Tanje Ostojić. Radovi su predstavljeni zahvaljujući ljubaznosti umetnika\, kolekcija Ustanove za izradu tapiserija „Atelje 61“ i Muzeja savremene umetnosti Vojvodine.   Kroz postavku će voditi:dr Sanja Kojić Mladenov\, kustoskinja izložbe\, muzejska savetnica Muzeja savremene umetnosti Vojvodine u Novom SaduIvana Ivković\, multimedijalna umetnicaJelena Grujičić\, multimedijalna umetnicaNela Tonković\, istoričarka umetnosti i in-house kustoskinja izložbe   Izložbu možete posetiti do subote\, 28. februara 2026. Dobro došli!
URL:https://sgsu.org.rs/desavanje/narativi-o-tekstilu-kustosko-i-autorsko-vodjenje-kroz-izlozbu/
LOCATION:Savremena galerija Subotica\, Park Ferenca Rajhla 5\, Subotica\, 24000\, Serbia
CATEGORIES:Arhiva,Događaji
ATTACH;FMTTYPE=image/jpeg:https://sgsu.org.rs/wp-content/uploads/2026/02/EDY_6515-Savremena-galerija-Subotica.jpg
GEO:40.7602619;-73.9932872
X-APPLE-STRUCTURED-LOCATION;VALUE=URI;X-ADDRESS=Savremena galerija Subotica Park Ferenca Rajhla 5 Subotica 24000 Serbia;X-APPLE-RADIUS=500;X-TITLE=Park Ferenca Rajhla 5:geo:-73.9932872,40.7602619
END:VEVENT
END:VCALENDAR