BEGIN:VCALENDAR
VERSION:2.0
PRODID:-//Savremena galerija Subotica - ECPv5.3.1//NONSGML v1.0//EN
CALSCALE:GREGORIAN
METHOD:PUBLISH
X-WR-CALNAME:Savremena galerija Subotica
X-ORIGINAL-URL:https://sgsu.org.rs
X-WR-CALDESC:Događaji za Savremena galerija Subotica
BEGIN:VTIMEZONE
TZID:Europe/Belgrade
BEGIN:DAYLIGHT
TZOFFSETFROM:+0100
TZOFFSETTO:+0200
TZNAME:CEST
DTSTART:20240331T010000
END:DAYLIGHT
BEGIN:STANDARD
TZOFFSETFROM:+0200
TZOFFSETTO:+0100
TZNAME:CET
DTSTART:20241027T010000
END:STANDARD
END:VTIMEZONE
BEGIN:VEVENT
DTSTART;TZID=Europe/Belgrade:20240727T190000
DTEND;TZID=Europe/Belgrade:20240727T200000
DTSTAMP:20260424T010145
CREATED:20240725T062745Z
LAST-MODIFIED:20251203T084348Z
UID:21180-1722106800-1722110400@sgsu.org.rs
SUMMARY:Otvaranje izložbe | ZLATNO DOBA: 60 godina grafičke zbirke Savremene galerije Subotica
DESCRIPTION:Otvaranje izložbe | ZLATNO DOBA: 60 godina grafičke zbirke Savremene galerije Subotica Savremena galerija Subotica Park Ferenca Rajhla 5subota\, 27. jul 2024\, 19.00 U galeriji „Likovnog susreta Subotica” je u 60-tim godinama prošlog veka počelo organizovanje brojnih manifestacija (po kojima je i ustanova dobila ime\, „Likovni susret“) sa ciljem razvoja\, prezentacije i popularizacije likovne kulture. U saradnji sa Savezom likovnih umetnika Jugoslavije\, „Likovni susret“ je organizovao Prvi skup grafičara Jugoslavije. Manifestacija je održana na Paliću tokom avgusta i septembra 1964. godine u okviru III LIKOVNOG SUSRETA. Na izložbi je učestvovalo više od 70 autora iz cele zemlje i od svakog autora je otkupljena jedna grafika a mnoge su i kao poklon dospele u zbirku galerije koja je na taj način počela da gradi svoju bogatu kolekciju\, koja se smatra jednom od boljih u regionu. Od tog vremena pa sve do danas\, putem otkupa\, poklona i kroz rad Grafičkog ateljea\, broj grafičkih listova prešao je brojku od 750 otisaka. To je bio period procvata grafike\, likovnog medija koji je u tim godinama ubrzano osvajao umetnički prostor nekadašnje države. U tom period grafika je kako u smislu tehničke raznovrsnosti tako i po umetničkim tendencijama u značajnoj meri doprinela širenju i popularizaciji savremenog umetničkog izraza\, otvarajući nove perspektive i područja umetničkog delovanja. Na izložbi koja nosi naziv ZLATNO DOBA izloženi su grafički listovi značajnih umetnika koji su svojim radom na polju umetničke grafike otvarali mnoge puteve razvoja savremene umetnosti. Između ostalih\, na izložbi će biti prikazane grafike Božidara Jakca\, Boška Karanovića\, Milana Kerca\, Halila Tikveše\, Ede Murtića\, Ankice Oprešnik\, Koste Angeli Radovanija\,… Pre 15 godina naša galerija je organizovala i veliku manifestaciju pod nazivom „Umetnička grafika i savremeni mediji“. Ponovo su nakon 45 godina od Prvog skupa grafičara Jugoslavije bili na okupu umetnici iz svih delova bivše zajedničke države. Na ovoj manifestaciji predstavljena su dela u svim grafičkim medijima uključujući i digitalnu štampu. Do danas grafika pokazuje da ima sposobnost prilagođavanja savremenim tendencijama i interpretaciji umetničke ideje u formi grafičkog lista i da može biti izbor izražavanja umetničkih poetika ravnopravno\, uz sve ostale umetničke medije. Izložbom grafika iz fonda SGSU rekonstruiše se to\, po mnogo čemu herojsko vreme u kojem je vizija umetnosti nosila u sebi pre svega optimizam i nadu jednog novog\, Zlatnog doba. Kustos izložbe je Miroslav Jovančić. Zahvaljujemo se Gradskom muzeju Subotica što su nam omogućili da koristimo plakat iz njihove arhive.   Sve vas sa radošću očekujemo 😊
URL:https://sgsu.org.rs/desavanje/otvaranje-izlozbe-zlatno-doba-60-godina-graficke-zbirke-savremene-galerije-subotica/
LOCATION:Savremena galerija Subotica\, Park Ferenca Rajhla 5\, Subotica\, 24000\, Serbia
CATEGORIES:Arhiva,Događaji,Galerija
ATTACH;FMTTYPE=image/jpeg:https://sgsu.org.rs/wp-content/uploads/2024/07/Pozivnica_graficka_Fb.jpg
GEO:40.7602619;-73.9932872
X-APPLE-STRUCTURED-LOCATION;VALUE=URI;X-ADDRESS=Savremena galerija Subotica Park Ferenca Rajhla 5 Subotica 24000 Serbia;X-APPLE-RADIUS=500;X-TITLE=Park Ferenca Rajhla 5:geo:-73.9932872,40.7602619
END:VEVENT
END:VCALENDAR