BEGIN:VCALENDAR
VERSION:2.0
PRODID:-//Savremena galerija Subotica - ECPv5.3.1//NONSGML v1.0//EN
CALSCALE:GREGORIAN
METHOD:PUBLISH
X-WR-CALNAME:Savremena galerija Subotica
X-ORIGINAL-URL:https://sgsu.org.rs
X-WR-CALDESC:Događaji za Savremena galerija Subotica
BEGIN:VTIMEZONE
TZID:Europe/Belgrade
BEGIN:DAYLIGHT
TZOFFSETFROM:+0100
TZOFFSETTO:+0200
TZNAME:CEST
DTSTART:20250330T010000
END:DAYLIGHT
BEGIN:STANDARD
TZOFFSETFROM:+0200
TZOFFSETTO:+0100
TZNAME:CET
DTSTART:20251026T010000
END:STANDARD
END:VTIMEZONE
BEGIN:VEVENT
DTSTART;TZID=Europe/Belgrade:20250301T153000
DTEND;TZID=Europe/Belgrade:20250301T170000
DTSTAMP:20260423T132842
CREATED:20250225T144601Z
LAST-MODIFIED:20251203T082810Z
UID:21692-1740843000-1740848400@sgsu.org.rs
SUMMARY:TIME RIBBONS: VIZUALIZOVANJE KAJANJA
DESCRIPTION:TIME RIBBONS: VIZUALIZOVANJE KAJANJAYANINA RAPATSKAYA\, vizuelna umetnica i istraživačica Kreativna radionica Savremena galerija Subotica\, Park Ferenca Rajhla 5.subota\, 1. mart\, 15.30 časova Šta kad bi kajanje moglo da poprimi fizički oblik? Šta ako bi se sećanja mogla utkati u nešto opipljivo? Na ovoj interaktivnoj radionici\, koju vodi Yanina Rapatskaya\, savremena umetnica i istraživačica\, svoje neizgovorene misli i neispunjene događaje ispisivaćete belim markerima na duge satenske trake. Ovaj meditativni proces transformiše lične emocije u poetsko\, ritualno i zajedničko vizuelno iskustvo. Sudbina traka ostaje otvorena – mogu se sačuvati\, ispreplesti ili otpustiti. Izbor je na vama. Zajedno ćemo stvoriti kolektivno umetničko delo: tapiseriju kajanja\, spomenik onome što je moglo biti. Radionica se održava na engleskom jezikuMaksimalan broj učesnika: 15Prijava:pedagog.sgsu@gmail.com
URL:https://sgsu.org.rs/desavanje/time-ribbons-vizualizovanje-kajanja/
LOCATION:Savremena galerija Subotica\, Park Ferenca Rajhla 5\, Subotica\, 24000\, Serbia
CATEGORIES:Arhiva,Događaji
ATTACH;FMTTYPE=image/jpeg:https://sgsu.org.rs/wp-content/uploads/2025/02/ribbons4-Savremena-galerija-Subotica.jpg
GEO:40.7602619;-73.9932872
X-APPLE-STRUCTURED-LOCATION;VALUE=URI;X-ADDRESS=Savremena galerija Subotica Park Ferenca Rajhla 5 Subotica 24000 Serbia;X-APPLE-RADIUS=500;X-TITLE=Park Ferenca Rajhla 5:geo:-73.9932872,40.7602619
END:VEVENT
END:VCALENDAR