BEGIN:VCALENDAR
VERSION:2.0
PRODID:-//Savremena galerija Subotica - ECPv5.3.1//NONSGML v1.0//EN
CALSCALE:GREGORIAN
METHOD:PUBLISH
X-WR-CALNAME:Savremena galerija Subotica
X-ORIGINAL-URL:https://sgsu.org.rs/en/
X-WR-CALDESC:Events for Savremena galerija Subotica
BEGIN:VTIMEZONE
TZID:Europe/Belgrade
BEGIN:DAYLIGHT
TZOFFSETFROM:+0100
TZOFFSETTO:+0200
TZNAME:CEST
DTSTART:20250330T010000
END:DAYLIGHT
BEGIN:STANDARD
TZOFFSETFROM:+0200
TZOFFSETTO:+0100
TZNAME:CET
DTSTART:20251026T010000
END:STANDARD
END:VTIMEZONE
BEGIN:VEVENT
DTSTART;TZID=Europe/Belgrade:20250208T170000
DTEND;TZID=Europe/Belgrade:20250208T180000
DTSTAMP:20260423T120718
CREATED:20250205T070639Z
LAST-MODIFIED:20251203T083032Z
UID:21633-1739034000-1739037600@sgsu.org.rs
SUMMARY:ADRIAN KLAJO/KLÁJÓ ADRIÁN | AGRO GOTHIC - Autorsko vođenje kroz izložbu
DESCRIPTION:Foto: Edvard Molnar ADRIAN KLAJO | AGRO GOTHICAutorsko vođenje kroz izložbu  Savremena galerija Subotica\, Park Ferenca Rajhla 5.subota\, 8. februar\, 17 časova Ove subote ćemo imati posebnu priliku da nas kroz izložbu AGRO GOTHIC vodi umetnik\, Adrian Klajo (Klájó Adrián).  O svom radu umetnik kaže: …  „U svom radu obrađujem materijalnu i duhovnu baštinu sela\, istražujem mogućnosti njihove savremene interpretacije\, upoređujući suprotnosti parova – poput tradicije nasuprot modernosti\, misticizma nasuprot običnosti – dotičući se koncepata kao što su marginalna egzistencija\, migracija ili transgeneracijsko prenošenje. Moji radovi služe se specifičnim umetničkim alatima kako bi predstavili kvalitet života u mom užem i širem okruženju dok govore o različitim oblicima nasilja\, uništavanja\, ugnjetavanja i ranjivosti. U mojim najskorijim radovima\, može da se sagleda aktivan duh savremene gotike\, među mnogim pod-žanrovima od kojih me naročito zanimaju ruralna i folklorna gotika. Posredstvom folklora\, moje kompozicije određene su lokalnom mitovima\, legendama\, običajima i tradicijama\, za čijim materijalnim i narativnim elementima tragam u seoskim kulturama Karpatskog basena i slovenskih naroda. Grupe predmeta\, umesto da budu didaktička ilustracija\, prenose osećanja čije se prihvatanje kod posmatrača rađa „iz utrobe“\, a ne u obliku racionalnog zaključka.” … Vođenje će biti na mađarskom jeziku.  Sve vas srdačno očekujemo ☺
URL:https://sgsu.org.rs/en/desavanje/adrian-klajo-klajo-adrian-agro-gothic-autorsko-vodjenje-kroz-izlozbu/
LOCATION:Savremena galerija Subotica\, Park Ferenca Rajhla 5\, Subotica\, 24000\, Serbia
CATEGORIES:Arhiva,Događaji
ATTACH;FMTTYPE=image/jpeg:https://sgsu.org.rs/wp-content/uploads/2025/02/EDY_4061-Savremena-galerija-Subotica-scaled.jpg
GEO:40.7602619;-73.9932872
X-APPLE-STRUCTURED-LOCATION;VALUE=URI;X-ADDRESS=Savremena galerija Subotica Park Ferenca Rajhla 5 Subotica 24000 Serbia;X-APPLE-RADIUS=500;X-TITLE=Park Ferenca Rajhla 5:geo:-73.9932872,40.7602619
END:VEVENT
END:VCALENDAR