BEGIN:VCALENDAR
VERSION:2.0
PRODID:-//Savremena galerija Subotica - ECPv5.3.1//NONSGML v1.0//EN
CALSCALE:GREGORIAN
METHOD:PUBLISH
X-WR-CALNAME:Savremena galerija Subotica
X-ORIGINAL-URL:https://sgsu.org.rs/hu/
X-WR-CALDESC:Events for Savremena galerija Subotica
BEGIN:VTIMEZONE
TZID:Europe/Belgrade
BEGIN:DAYLIGHT
TZOFFSETFROM:+0100
TZOFFSETTO:+0200
TZNAME:CEST
DTSTART:20240331T010000
END:DAYLIGHT
BEGIN:STANDARD
TZOFFSETFROM:+0200
TZOFFSETTO:+0100
TZNAME:CET
DTSTART:20241027T010000
END:STANDARD
END:VTIMEZONE
BEGIN:VEVENT
DTSTART;TZID=Europe/Belgrade:20241128T180000
DTEND;TZID=Europe/Belgrade:20241128T190000
DTSTAMP:20260423T162031
CREATED:20241125T095554Z
LAST-MODIFIED:20251203T083416Z
UID:21472-1732816800-1732820400@sgsu.org.rs
SUMMARY:Predavanje „Savremeni arhetip“
DESCRIPTION:BALAŽ ŠARKANJ: PREKO VODEPredavanje „Savremeni arhetip“ Savremena galerija Subotica\, Park Ferenca Rajhla 5.četvrtak\, 28. novembar 2024\, 18 časova   U četvrtak\, 28. novembar 2024\, 18 časova u Savremenoj galeriji Subotica održaće se predavanje „Savremeni arhetip“ u okviru pratećih programa  izložbe PREKO VODE umetnika Balaža Šarkanja. Kako tradicija\, duhovnost\, mitovi\, arhetipi\, simbolika nesvesnog korenspondiraju sa savremenim trenutkom? Može li se stvoriti savremeni arhetip koji premošćava ova dva sveta? Na koje načine umetnici odgovaraju ovom izazovu?   Predavanje će se održati na mađarskom jeziku. Predavač će biti Miroslav Jovančić\, kustos izložbe.   Srdačno vas očekujemo 🙂
URL:https://sgsu.org.rs/hu/desavanje/predavanje-savremeni-arhetip/
LOCATION:Savremena galerija Subotica\, Park Ferenca Rajhla 5\, Subotica\, 24000\, Serbia
CATEGORIES:Arhiva,Događaji
ATTACH;FMTTYPE=image/jpeg:https://sgsu.org.rs/wp-content/uploads/2024/11/Sarkanj_FB_predavanje.jpg
GEO:40.7602619;-73.9932872
X-APPLE-STRUCTURED-LOCATION;VALUE=URI;X-ADDRESS=Savremena galerija Subotica Park Ferenca Rajhla 5 Subotica 24000 Serbia;X-APPLE-RADIUS=500;X-TITLE=Park Ferenca Rajhla 5:geo:-73.9932872,40.7602619
END:VEVENT
END:VCALENDAR